BEGIN:VCALENDAR
VERSION:2.0
PRODID:spatie/icalendar-generator
BEGIN:VTIMEZONE
TZID:Europe/Madrid
BEGIN:STANDARD
DTSTART:20251026T030000
TZOFFSETFROM:+0200
TZOFFSETTO:+0100
END:STANDARD
BEGIN:DAYLIGHT
DTSTART:20260329T010000
TZOFFSETFROM:+0100
TZOFFSETTO:+0200
END:DAYLIGHT
BEGIN:STANDARD
DTSTART:20261025T030000
TZOFFSETFROM:+0200
TZOFFSETTO:+0100
END:STANDARD
END:VTIMEZONE
BEGIN:VTIMEZONE
TZID:UTC
BEGIN:STANDARD
DTSTART:20250724T100434
TZOFFSETFROM:+0000
TZOFFSETTO:+0000
END:STANDARD
END:VTIMEZONE
BEGIN:VEVENT
UID:69e5fa32e6372
DTSTAMP:20260420T100434Z
SUMMARY:\"Les papallones de Nabokov\"\, d’Estudi Obert
DESCRIPTION:Estudi Obert som un grup de dones que ens vam conèixer fa anys
  en un taller creatiu i no hem deixat mai de trobar-nos. Acompanyades per 
 l’Arian Morera hem creat un món de papallones de papiroflèxia inspirad
 es en l’escriptor i reconegut lepidòpter Vladímir Nabokov.
LOCATION:Plaça de Cal Font\, s/n 08700 Igualada (Barcelona) 
DTSTART;TZID=Europe/Madrid:20260410T100000
DTEND;TZID=Europe/Madrid:20260530T203000
GEO:41.5811619;1.618061
X-APPLE-STRUCTURED-LOCATION;VALUE=URI;X-ADDRESS=Plaça de Cal Font\, s/n 08
 700 Igualada (Barcelona) ;X-APPLE-RADIUS=72;X-TITLE=Biblioteca Central:geo
 :41.5811619,1.618061
END:VEVENT
END:VCALENDAR