BEGIN:VCALENDAR
VERSION:2.0
PRODID:spatie/icalendar-generator
BEGIN:VTIMEZONE
TZID:Europe/Madrid
BEGIN:STANDARD
DTSTART:20251026T030000
TZOFFSETFROM:+0200
TZOFFSETTO:+0100
END:STANDARD
BEGIN:DAYLIGHT
DTSTART:20260329T010000
TZOFFSETFROM:+0100
TZOFFSETTO:+0200
END:DAYLIGHT
END:VTIMEZONE
BEGIN:VTIMEZONE
TZID:UTC
BEGIN:STANDARD
DTSTART:20250723T145725
TZOFFSETFROM:+0000
TZOFFSETTO:+0000
END:STANDARD
END:VTIMEZONE
BEGIN:VEVENT
UID:69e4ed5502a56
DTSTAMP:20260419T145725Z
SUMMARY:\"El amor que no cesa\"\, de Montserrat Monge
DESCRIPTION:Presentació de llibre.D'\"El amor que no cesa\" se'n poden ext
 reure dues lectures. D’una banda\, la d’un amor que ens embolcalla de 
 manera indestructible\, que ens envolta i ens atrapa en la seva existènci
 a. De l’altra\, la de l’amor entès com un sentiment d’afecte\, incl
 inació i lliurament a algú que\, malgrat el pas del temps i les pitjors 
 circumstàncies\, mai no deixa de bategar\, d’estar\, de ser.\n\nPrese
 ntació a càrrec de l'autora.
LOCATION:Plaça de Cal Font\, s/n 08700 Igualada (Barcelona) 
DTSTART;TZID=Europe/Madrid:20260327T183000
DTEND;TZID=Europe/Madrid:20260327T200000
GEO:41.5811619;1.618061
X-APPLE-STRUCTURED-LOCATION;VALUE=URI;X-ADDRESS=Plaça de Cal Font\, s/n 08
 700 Igualada (Barcelona) ;X-APPLE-RADIUS=72;X-TITLE=Biblioteca Central:geo
 :41.5811619,1.618061
END:VEVENT
END:VCALENDAR